Workbook

Sheet Raw Data
A1: Note: joint funded projects (regardless of how or who the split is between) are not broken up for the purposes of this assessment
A3: project | B3: approval year | C3: Days (final) | D3: construction cost | E3: fee allowance | F3: Bid | G3: % of fee | H3: % of Ccost | I3: CA | J3: % of fee | K3: % of Ccost | L3: RPR | M3: % of fee | O3: post-construction | P3: % of fee | Q3: special services | R3: % of fee | S3: outside curve1 | T3: Total Step III
A4: RTFD6 (RF3-364) | B4: 43388 | C4: 60 | D4: 82000 | E4: =(D4*0.1265)+3575 -> 13948 | F4: 1940 | G4: =F4/$T4 -> 0.24024768 | H4: =F4/D4 -> 0.023658537 | I4: 3805 | J4: =I4/$T4 -> 0.47120743 | K4: =I4/D4 -> 0.046402439 | L4: 2330 | M4: =L4/$T4 -> 0.28854489 | O4: 0 | P4: =O4/$T4 -> 0 | Q4: 0 | R4: =Q4/$T4 -> 0 | S4: ) | T4: =Q4+O4+L4+I4+F4 -> 8075 | V4: =G4+J4+M4+P4+R4 -> 1
A5: Ascutney FD 1 (RF3-370/C1&2) | B5: 43616 | C5: 89 | D5: 147950 | E5: =(D5*0.1265)+3575 -> 22290.675 | F5: 2300 | G5: =F5/$T5 -> 0.098712446 | H5: =F5/D5 -> 0.015545792 | I5: 9700 | J5: =I5/$T5 -> 0.41630901 | K5: =I5/D5 -> 0.06556269 | L5: 8800 | M5: =L5/$T5 -> 0.3776824 | O5: 0 | P5: =O5/$T5 -> 0 | Q5: 2500 | R5: =Q5/$T5 -> 0.10729614 | S5: =T5-E5 -> 1009.325 | T5: =Q5+O5+L5+I5+F5 -> 23300 | V5: =G5+J5+M5+P5+R5 -> 1
A6: Troy (RF3-373) | B6: 43538 | C6: 60(373) | D6: 280000 | E6: =(D6*0.1265)+3575 -> 38995 | F6: 2700 | G6: =F6/$T6 -> 0.053465347 | H6: =F6/D6 -> 0.0096428571 | I6: 7700 | J6: =I6/$T6 -> 0.15247525 | K6: =I6/D6 -> 0.0275 | L6: 29000 | M6: =L6/$T6 -> 0.57425743 | O6: 0 | P6: =O6/$T6 -> 0 | Q6: 11100 | R6: =Q6/$T6 -> 0.21980198 | S6: =T6-E6 -> 11505 | T6: =Q6+O6+L6+I6+F6 -> 50500 | V6: =G6+J6+M6+P6+R6 -> 1
A7: W. Windsor (RF3-376) | B7: 43676 | C7: 150(176) | D7: 281918 | E7: =(D7*0.1265)+3575 -> 39237.627 | F7: 3800 | G7: =F7/$T7 -> 0.09382716 | H7: =F7/D7 -> 0.013479097 | I7: 15600 | J7: =I7/$T7 -> 0.38518519 | K7: =I7/D7 -> 0.055335239 | L7: 16500 | M7: =L7/$T7 -> 0.40740741 | O7: 0 | P7: =O7/$T7 -> 0 | Q7: 4600 | R7: =Q7/$T7 -> 0.11358025 | S7: =T7-E7 -> 1262.373 | T7: =Q7+O7+L7+I7+F7 -> 40500 | V7: =G7+J7+M7+P7+R7 -> 1
A8: Peacham (3-362) | B8: 43277 | C8: 75 | D8: 304500 | E8: =(D8*0.1265)+3575 -> 42094.25 | F8: 5092 | G8: =F8/$T8 -> 0.12592428 | H8: =F8/D8 -> 0.016722496 | I8: 11118 | J8: =I8/$T8 -> 0.27494621 | K8: =I8/D8 -> 0.036512315 | L8: 19627 | M8: =L8/$T8 -> 0.48537231 | O8: 0 | P8: =O8/$T8 -> 0 | Q8: 4600 | R8: =Q8/$T8 -> 0.1137572 | S8: =T8-E8 -> -1657.25 | T8: =Q8+O8+L8+I8+F8 -> 40437 | V8: =G8+J8+M8+P8+R8 -> 1
A9: Addison (RF1-195) | B9: 43874 | C9: 87 | D9: 447271 | E9: =(D9*0.1265)+3575 -> 60154.781 | F9: 7136 | G9: =F9/$T9 -> 0.12414969 | H9: =F9/D9 -> 0.015954533 | I9: 15509 | J9: =I9/$T9 -> 0.26982028 | K9: =I9/D9 -> 0.034674727 | L9: 31834 | M9: =L9/$T9 -> 0.55383705 | O9: 0 | P9: =O9/$T9 -> 0 | Q9: 3000 | R9: =Q9/$T9 -> 0.052192975 | S9: =T9-E9 -> -2675.7815 | T9: =Q9+O9+L9+I9+F9 -> 57479 | V9: =G9+J9+M9+P9+R9 -> 1
A10: BFVC (RF3-367/2020-1) | B10: 44018 | C10: 75 | D10: 460000 | E10: =(D10*0.1265)+3575 -> 61765 | F10: 5815 | G10: =F10/$T10 -> 0.068975743 | H10: =F10/D10 -> 0.012641304 | I10: 29885 | J10: =I10/$T10 -> 0.35448669 | K10: =I10/D10 -> 0.064967391 | L10: 27605 | M10: =L10/$T10 -> 0.32744203 | O10: 21000 | P10: =O10/$T10 -> 0.24909555 | Q10: 0 | R10: =Q10/$T10 -> 0 | S10: =T10-E10 -> 22540 | T10: =Q10+O10+L10+I10+F10 -> 84305 | V10: =G10+J10+M10+P10+R10 -> 1
A11: Hemlock Ridge (RF3-355) | B11: 43789 | C11: 81(216) | D11: 462462 | E11: =(D11*0.1265)+3575 -> 62076.443 | F11: 9547 | G11: =F11/$T11 -> 0.16208829 | H11: =F11/D11 -> 0.020643858 | I11: 17555 | J11: =I11/$T11 -> 0.29804754 | K11: =I11/D11 -> 0.037959876 | L11: 18498 | M11: =L11/$T11 -> 0.31405772 | O11: 13300 | P11: =O11/$T11 -> 0.22580645 | Q11: 0 | R11: =Q11/$T11 -> 0 | S11: =T11-E11 -> -3176.443 | T11: =Q11+O11+L11+I11+F11 -> 58900 | V11: =G11+J11+M11+P11+R11 -> 1
A12: W. Windsor (RF1-228) | B12: 43676 | C12: 90(293) | D12: 497303 | E12: =(D12*0.1265)+3575 -> 66483.829 | F12: 5300 | G12: =F12/$T12 -> 0.079341317 | H12: =F12/D12 -> 0.010657486 | I12: 25300 | J12: =I12/$T12 -> 0.37874251 | K12: =I12/D12 -> 0.050874417 | L12: 31800 | M12: =L12/$T12 -> 0.4760479 | O12: 0 | P12: =O12/$T12 -> 0 | Q12: 4400 | R12: =Q12/$T12 -> 0.065868263 | S12: =T12-E12 -> 316.1705 | T12: =Q12+O12+L12+I12+F12 -> 66800 | V12: =G12+J12+M12+P12+R12 -> 1
A13: West Rutland (RF3-389) | B13: 43892 | C13: 120 | D13: 534235 | E13: =(D13*0.1265)+3575 -> 71155.727 | F13: 10500 | G13: =F13/$T13 -> 0.12987013 | H13: =F13/D13 -> 0.019654272 | I13: 19950 | J13: =I13/$T13 -> 0.24675325 | K13: =I13/D13 -> 0.037343117 | L13: 49000 | M13: =L13/$T13 -> 0.60606061 | O13: 0 | P13: =O13/$T13 -> 0 | Q13: 1400 | R13: =Q13/$T13 -> 0.017316017 | S13: =T13-E13 -> 9694.2725 | T13: =Q13+O13+L13+I13+F13 -> 80850 | V13: =G13+J13+M13+P13+R13 -> 1
A14: Proctor (RF3-363) | B14: 43675 | C14: 84 | D14: 537980 | E14: =(D14*0.1265)+3575 -> 71629.47 | F14: 5000 | G14: =F14/$T14 -> 0.072907553 | H14: =F14/D14 -> 0.0092940258 | I14: 14155 | J14: =I14/$T14 -> 0.20640128 | K14: =I14/D14 -> 0.026311387 | L14: 47025 | M14: =L14/$T14 -> 0.68569554 | O14: 0 | P14: =O14/$T14 -> 0 | Q14: 2400 | R14: =Q14/$T14 -> 0.034995626 | S14: =T14-E14 -> -3049.47 | T14: =Q14+O14+L14+I14+F14 -> 68580 | V14: =G14+J14+M14+P14+R14 -> 1
A15: Proctor (RF1-209) | B15: 43119 | D15: 561706 | E15: =(D15*0.1265)+3575 -> 74630.809 | F15: 3900 | G15: =F15/$T15 -> 0.047527938 | H15: =F15/D15 -> 0.006943134 | I15: 25700 | J15: =I15/$T15 -> 0.31319692 | K15: =I15/D15 -> 0.045753472 | L15: 43600 | M15: =L15/$T15 -> 0.53133797 | O15: 7195 | P15: =O15/$T15 -> 0.087682952 | Q15: 1662 | R15: =Q15/$T15 -> 0.020254214 | S15: =T15-E15 -> 7426.191 | T15: =Q15+O15+L15+I15+F15 -> 82057 | V15: =G15+J15+M15+P15+R15 -> 1
A16: Cabot (RF3-357) | B16: 43301 | C16: 280 | D16: 632507.46 | E16: =(D16*0.1265)+3575 -> 83587.194 | F16: 4300 | G16: =F16/$T16 -> 0.040484305 | H16: =F16/D16 -> 0.0067983388 | I16: 30000 | J16: =I16/$T16 -> 0.28244864 | K16: =I16/D16 -> 0.047430271 | L16: 56600 | M16: =L16/$T16 -> 0.53288644 | O16: 7802 | P16: =O16/$T16 -> 0.073455477 | Q16: 7512 | R16: =Q16/$T16 -> 0.07072514 | S16: =T16-E16 -> 22626.806 | T16: =Q16+O16+L16+I16+F16 -> 106214 | V16: =G16+J16+M16+P16+R16 -> 1
A17: Pittsford (RF1-218) | B17: 43784 | C17: 150 | D17: 645750 | E17: =(D17*0.1265)+3575 -> 85262.375 | F17: 7820 | G17: =F17/$T17 -> 0.086479552 | H17: =F17/D17 -> 0.01210995 | I17: 28170 | J17: =I17/$T17 -> 0.31152545 | K17: =I17/D17 -> 0.043623693 | L17: 48180 | M17: =L17/$T17 -> 0.53281136 | O17: 4518 | P17: =O17/$T17 -> 0.049963506 | Q17: 1738 | R17: =Q17/$T17 -> 0.019220136 | S17: =T17-E17 -> 5163.625 | T17: =Q17+O17+L17+I17+F17 -> 90426 | V17: =G17+J17+M17+P17+R17 -> 1
A18: BFVC (RF3-367/2017-2) | B18: 43382 | C18: 90 (407) | D18: 670000 | E18: =(D18*0.1265)+3575 -> 88330 | F18: 9551 | G18: =F18/$T18 -> 0.11226697 | H18: =F18/D18 -> 0.014255224 | I18: 29149 | J18: =I18/$T18 -> 0.34263112 | K18: =I18/D18 -> 0.04350597 | L18: 36168 | M18: =L18/$T18 -> 0.42513576 | O18: 6394 | P18: =O18/$T18 -> 0.075158098 | Q18: 3812 | R18: =Q18/$T18 -> 0.044808049 | S18: =T18-E18 -> -3256 | T18: =Q18+O18+L18+I18+F18 -> 85074 | V18: =G18+J18+M18+P18+R18 -> 1
A19: Mount Holly (RF3-543) | B19: 2024 | D19: 700000 | E19: =3575+(0.1265*D19) -> 92125 | F19: 11765 | G19: =F19/T19 -> 0.092697647 | H19: =F19/D19 -> 0.016807143 | I19: 44304 | J19: =I19/T19 -> 0.34907578 | K19: =I19/D19 -> 0.063291429 | L19: 70289 | M19: =L19/T19 -> 0.55381427 | O19: 560 | P19: =O19/$T19 -> 0.0044122977 | Q19: 0 | R19: =Q19/$T19 -> 0 | S19: =T19-E19 -> 34793 | T19: =Q19+O19+L19+I19+F19 -> 126918 | V19: =G19+J19+M19+P19+R19 -> 1
A20: Ludlow High St (1-272/3-4170 | B20: 44209 | D20: 735000 | E20: =(D20*0.1265)+3575 -> 96552.5 | F20: 5500 | G20: =F20/$T20 -> 0.052970183 | H20: =F20/D20 -> 0.0074829932 | I20: 33900 | J20: =I20/$T20 -> 0.32648894 | K20: =I20/D20 -> 0.046122449 | L20: 54300 | M20: =L20/$T20 -> 0.52296017 | O20: 0 | P20: =O20/$T20 -> 0 | Q20: 10132 | R20: =Q20/$T20 -> 0.097580707 | S20: =T20-E20 -> 7279.5 | T20: =Q20+O20+L20+I20+F20 -> 103832 | V20: =G20+J20+M20+P20+R20 -> 1
A21: Hyde Park (RF1-200) | B21: 43696 | C21: 210 | D21: 755650 | E21: =(D21*0.1265)+3575 -> 99164.725 | F21: 6500 | G21: =F21/$T21 -> 0.082145385 | H21: =F21/D21 -> 0.0086018659 | I21: 23800 | J21: =I21/$T21 -> 0.30077849 | K21: =I21/D21 -> 0.031496063 | L21: 29200 | M21: =L21/$T21 -> 0.36902234 | O21: 0 | P21: =O21/$T21 -> 0 | Q21: 19628 | R21: =Q21/$T21 -> 0.24805379 | S21: =T21-E21 -> -20036.725 | T21: =Q21+O21+L21+I21+F21 -> 79128 | V21: =G21+J21+M21+P21+R21 -> 1
A22: Rutland City FM (1-236) | B22: 43699 | C22: 134 | D22: 1034570 | E22: =0.55*(0.6788*(D22^0.9206)) -> 128615.25 | F22: 10700 | G22: =F22/$T22 -> 0.091203546 | H22: =F22/D22 -> 0.010342461 | I22: 36320 | J22: =I22/$T22 -> 0.30958063 | K22: =I22/D22 -> 0.035106373 | L22: 67500 | M22: =L22/$T22 -> 0.57534947 | O22: 2800 | P22: =O22/$T22 -> 0.023866348 | Q22: 0 | R22: =Q22/$T22 -> 0 | S22: =T22-E22 -> -11295.251 | T22: =Q22+O22+L22+I22+F22 -> 117320 | V22: =G22+J22+M22+P22+R22 -> 1
A23: BFVC (RF3-367/2017-1) | B23: 43382 | C23: 210 (324) | D23: 1225000 | E23: =0.55*(0.6788*(D23^0.9206)) -> 150259.73 | F23: 9594 | G23: =F23/$T23 -> 0.079373221 | H23: =F23/D23 -> 0.0078318367 | I23: 41806 | J23: =I23/$T23 -> 0.34587001 | K23: =I23/D23 -> 0.034127347 | L23: 68972 | M23: =L23/$T23 -> 0.57062016 | O23: 500 | P23: =O23/$T23 -> 0.0041366073 | Q23: 0 | R23: =Q23/$T23 -> 0 | S23: =T23-E23 -> -29387.731 | T23: =Q23+O23+L23+I23+F23 -> 120872 | V23: =G23+J23+M23+P23+R23 -> 1
A24: Brattleboro Tank (RF3-) | B24: 2024 | D24: 1235000 | E24: =0.55*(0.6788*(D24^0.9206)) -> 151388.58 | F24: 7265 | G24: =F24/T24 -> 0.053870681 | H24: =F24/D24 -> 0.0058825911 | I24: 52535 | J24: =I24/T24 -> 0.38955213 | K24: =I24/D24 -> 0.042538462 | L24: 66310 | M24: =L24/T24 -> 0.49169509 | O24: 8750 | P24: =O24/$T24 -> 0.0648821 | Q24: 0 | R24: =Q24/$T24 -> 0 | S24: =T24-E24 -> -16528.583 | T24: =Q24+O24+L24+I24+F24 -> 134860 | V24: =G24+J24+M24+P24+R24 -> 1
A25: Shelburne (1-186) | B25: 43207 | C25: 180 | D25: 1394196 | E25: =0.55*(0.6788*(D25^0.9206)) -> 169265.73 | F25: 4200 | G25: =F25/$T25 -> 0.023255814 | H25: =F25/D25 -> 0.003012489 | I25: 49100 | J25: =I25/$T25 -> 0.27187154 | K25: =I25/D25 -> 0.03521743 | L25: 114800 | M25: =L25/$T25 -> 0.63565891 | O25: 0 | P25: =O25/$T25 -> 0 | Q25: 12500 | R25: =Q25/$T25 -> 0.069213732 | S25: =T25-E25 -> 11334.27 | T25: =Q25+O25+L25+I25+F25 -> 180600 | V25: =G25+J25+M25+P25+R25 -> 1
A26: Brandon (1-214/3-372) | B26: 43609 | C26: 180 | D26: 1449027.6 | E26: =0.55*(0.6788*(D26^0.9206)) -> 175384.7 | F26: 6600 | G26: =F26/$T26 -> 0.041493776 | H26: =F26/D26 -> 0.0045547786 | I26: 50000 | J26: =I26/$T26 -> 0.31434679 | K26: =I26/D26 -> 0.034505899 | L26: 95800 | M26: =L26/$T26 -> 0.60228844 | O26: 6660 | P26: =O26/$T26 -> 0.041870992 | Q26: 0 | R26: =Q26/$T26 -> 0 | S26: =T26-E26 -> -16324.698 | T26: =Q26+O26+L26+I26+F26 -> 159060 | V26: =G26+J26+M26+P26+R26 -> 1
A27: VACH (RF1) | B27: 2022 | D27: 1942150 | E27: =0.55*(0.6788*(D27^0.9206)) -> 229666.49 | F27: 13350 | G27: =F27/T27 -> 0.089866916 | H27: =F27/D27 -> 0.0068738254 | I27: 50550 | J27: =I27/T27 -> 0.34028259 | K27: =I27/D27 -> 0.026027856 | L27: 81273 | M27: =L27/T27 -> 0.54709767 | O27: 0 | P27: =O27/$T27 -> 0 | Q27: 3380 | R27: =Q27/$T27 -> 0.022752822 | S27: =T27-E27 -> -81113.494 | T27: =Q27+O27+L27+I27+F27 -> 148553 | V27: =G27+J27+M27+P27+R27 -> 1
A28: Rutland City (1-237/3-371) | B28: 43732 | C28: 210 | D28: 1980404.5 | E28: =0.55*(0.6788*(D28^0.9206)) -> 233827.81 | F28: 12500 | G28: =F28/$T28 -> 0.066418704 | H28: =F28/D28 -> 0.0063118418 | I28: 51600 | J28: =I28/$T28 -> 0.27417641 | K28: =I28/D28 -> 0.026055283 | L28: 119150 | M28: =L28/$T28 -> 0.63310308 | O28: 4950 | P28: =O28/$T28 -> 0.026301807 | Q28: 0 | R28: =Q28/$T28 -> 0 | S28: =T28-E28 -> -45627.813 | T28: =Q28+O28+L28+I28+F28 -> 188200 | V28: =G28+J28+M28+P28+R28 -> 1
A29: Ludlow WWTP (RF1-225) | B29: 43598 | C29: 300 | D29: 2460000 | E29: =0.55*(0.6788*(D29^0.9206)) -> 285495.58 | F29: 12400 | G29: =F29/$T29 -> 0.038708872 | H29: =F29/D29 -> 0.0050406504 | I29: 104000 | J29: =I29/$T29 -> 0.32465505 | K29: =I29/D29 -> 0.042276423 | L29: 142500 | M29: =L29/$T29 -> 0.44483986 | O29: 61440 | P29: =O29/$T29 -> 0.19179622 | Q29: 0 | R29: =Q29/$T29 -> 0 | S29: =T29-E29 -> 34844.424 | T29: =Q29+O29+L29+I29+F29 -> 320340 | V29: =G29+J29+M29+P29+R29 -> 1
A30: Rutland City Digestor (1-235) | B30: 43699 | C30: 360 | D30: 2535000 | E30: =0.55*(0.6788*(D30^0.9206)) -> 293499.01 | F30: 13000 | G30: =F30/$T30 -> 0.041593345 | H30: =F30/D30 -> 0.0051282051 | I30: 114740 | J30: =I30/$T30 -> 0.36710926 | K30: =I30/D30 -> 0.045262327 | L30: 156300 | M30: =L30/$T30 -> 0.50007999 | O30: 28510 | P30: =O30/$T30 -> 0.091217405 | Q30: 0 | R30: =Q30/$T30 -> 0 | S30: =T30-E30 -> 19050.993 | T30: =Q30+O30+L30+I30+F30 -> 312550 | V30: =G30+J30+M30+P30+R30 -> 1
A31: Hartford (RF1-222/RF3-390) | B31: 43881 | C31: 210 | D31: 2560006 | E31: =0.55*(0.6788*(D31^0.9206)) -> 296163.25 | F31: 9700 | G31: =F31/$T31 -> 0.032436047 | H31: =F31/D31 -> 0.0037890536 | I31: 94800 | J31: =I31/$T31 -> 0.31700385 | K31: =I31/D31 -> 0.037031163 | L31: 182100 | M31: =L31/$T31 -> 0.60892827 | O31: 0 | P31: =O31/T31 -> 0 | Q31: 12450 | R31: =Q31/T31 -> 0.041631834 | T31: =Q31+O31+L31+I31+F31 -> 299050 | V31: =G31+J31+M31+P31+R31 -> 1
A32: Hyde Park H2O (RF3-386) | B32: 43816 | C32: 300 | D32: 2568000 | E32: =0.55*(0.6788*(D32^0.9206)) -> 297014.53 | F32: 11500 | G32: =F32/$T32 -> 0.042810769 | H32: =F32/D32 -> 0.0044781931 | I32: 101600 | J32: =I32/$T32 -> 0.37822384 | K32: =I32/D32 -> 0.039563863 | L32: 140100 | M32: =L32/$T32 -> 0.52154685 | O32: 15424 | P32: =O32/T32 -> 0.057418548 | Q32: 0 | R32: =Q32/T32 -> 0 | T32: =Q32+O32+L32+I32+F32 -> 268624 | V32: =G32+J32+M32+P32+R32 -> 1
A33: South Alburg (RF3-420) | B33: 2024 | D33: 2825590 | E33: =0.55*(0.6788*(D33^0.9206)) -> 324336.33 | F33: 30954 | G33: =F33/T33 -> 0.11136535 | H33: =F33/D33 -> 0.01095488 | I33: 90928 | J33: =I33/T33 -> 0.32713797 | K33: =I33/D33 -> 0.032180182 | L33: 124768 | M33: =L33/T33 -> 0.44888649 | O33: 31300 | P33: =O33/T33 -> 0.11261018 | Q33: 0 | R33: =Q33/T33 -> 0 | T33: =Q33+O33+L33+I33+F33 -> 277950 | V33: =G33+J33+M33+P33+R33 -> 1
A34: Springfield (RF3-xxx) | B34: 2024 | D34: 3170000 | E34: =0.55*(0.6788*(D34^0.9206)) -> 360561.77 | F34: 10500 | G34: =F34/T34 -> 0.020836682 | H34: =F34/D34 -> 0.0033123028 | I34: 121000 | J34: =I34/T34 -> 0.24011796 | K34: =I34/D34 -> 0.038170347 | L34: 249800 | M34: =L34/T34 -> 0.49571459 | O34: 5679 | P34: =O34/T34 -> 0.011269668 | Q34: 116940 | R34: =Q34/T34 -> 0.23206111 | T34: =Q34+O34+L34+I34+F34 -> 503919 | V34: =G34+J34+M34+P34+R34 -> 1
A35: Bolton (RF1-274) | B35: 2024 | D35: 6174000 | E35: =0.55*(0.6788*(D35^0.9206)) -> 666039.76 | F35: 14804 | G35: =F35/T35 -> 0.021456689 | H35: =F35/D35 -> 0.0023977972 | I35: 300153 | J35: =I35/T35 -> 0.43503713 | K35: =I35/D35 -> 0.048615646 | L35: 366101 | M35: =L35/T35 -> 0.53062115 | O35: 1200 | P35: =O35/T35 -> 0.0017392615 | Q35: 7690 | R35: =Q35/T35 -> 0.011145768 | T35: =Q35+O35+L35+I35+F35 -> 689948 | V35: =G35+J35+M35+P35+R35 -> 1
A36: St J - Pleasant (1-215/3-xxx) | B36: 44004 | D36: 6450000 | E36: =0.55*(0.6788*(D36^0.9206)) -> 693402.17 | F36: 19450 | G36: =F36/$T36 -> 0.026902989 | H36: =F36/D36 -> 0.0030155039 | I36: 331990 | J36: =I36/$T36 -> 0.45920428 | K36: =I36/D36 -> 0.051471318 | L36: 346700 | M36: =L36/$T36 -> 0.47955096 | O36: 22523 | P36: =O36/T36 -> 0.031153523 | Q36: 2305 | R36: =Q36/T36 -> 0.0031882462 | T36: =Q36+O36+L36+I36+F36 -> 722968 | V36: =G36+J36+M36+P36+R36 -> 1
L40: median OA | M40: =MEDIAN(M4:M36) -> 0.52296017
L42: <780k | M42: =MEDIAN(M4:M21) -> 0.50416624
L43: >780k | M43: =MEDIAN(M22:M36) -> 0.53062115
A47: 1 - for the sake of this sheet, all fees above the fee allowance are assumed to be non-standard tasks excluded from the curve (e.g. cross-cutters or similar); no analysis has been done to corroborate that assumption

Sheet RPR %
F3: RPR as a % of C
F4: C<$500K | H4: C>$500K
F6: ='Raw Data'!$M4 -> 0.28854489 | H6: ='Raw Data'!$M13 -> 0.60606061
F7: ='Raw Data'!$M5 -> 0.3776824 | H7: ='Raw Data'!$M14 -> 0.68569554
F8: ='Raw Data'!$M6 -> 0.57425743 | H8: ='Raw Data'!$M15 -> 0.53133797
F9: ='Raw Data'!$M7 -> 0.40740741 | H9: ='Raw Data'!$M16 -> 0.53288644
F10: ='Raw Data'!$M8 -> 0.48537231 | H10: ='Raw Data'!$M17 -> 0.53281136
F11: ='Raw Data'!$M9 -> 0.55383705 | H11: ='Raw Data'!$M18 -> 0.42513576
F12: ='Raw Data'!$M10 -> 0.32744203 | H12: ='Raw Data'!$M19 -> 0.55381427
F13: ='Raw Data'!$M11 -> 0.31405772 | H13: ='Raw Data'!$M20 -> 0.52296017
F14: ='Raw Data'!$M12 -> 0.4760479 | H14: ='Raw Data'!$M21 -> 0.36902234
H15: ='Raw Data'!$M22 -> 0.57534947
H16: ='Raw Data'!$M23 -> 0.57062016
H17: ='Raw Data'!$M24 -> 0.49169509
H18: ='Raw Data'!$M25 -> 0.63565891
H19: ='Raw Data'!$M26 -> 0.60228844
H20: ='Raw Data'!$M27 -> 0.54709767
H21: ='Raw Data'!$M28 -> 0.63310308
H22: ='Raw Data'!$M29 -> 0.44483986
H23: ='Raw Data'!$M30 -> 0.50007999
H24: ='Raw Data'!$M31 -> 0.60892827
H25: ='Raw Data'!$M32 -> 0.52154685
H26: ='Raw Data'!$M33 -> 0.44888649
... H29: ='Raw Data'!$M36 -> 0.47955096
D31: Average | F31: =AVERAGE(F6:F14) -> 0.42273879 | H31: =AVERAGE(H6:H29) -> 0.53523773
D32: Median | F32: =MEDIAN(F6:F31) -> 0.4150731 | H32: =MEDIAN(H6:H31) -> 0.53281136
D34: Apply RPR % | F34: 0.4 | H34: 0.52
D35: Use Non RPR % | F35: 0.6 | H35: 0.48
